BEGIN:VCALENDAR
VERSION:2.0
PRODID:-//Randolph Street Baptist Church - ECPv6.15.20//NONSGML v1.0//EN
CALSCALE:GREGORIAN
METHOD:PUBLISH
X-ORIGINAL-URL:https://randolphstreet.org
X-WR-CALDESC:Events for Randolph Street Baptist Church
REFRESH-INTERVAL;VALUE=DURATION:PT1H
X-Robots-Tag:noindex
X-PUBLISHED-TTL:PT1H
BEGIN:VTIMEZONE
TZID:America/New_York
BEGIN:DAYLIGHT
TZOFFSETFROM:-0500
TZOFFSETTO:-0400
TZNAME:EDT
DTSTART:20260308T070000
END:DAYLIGHT
BEGIN:STANDARD
TZOFFSETFROM:-0400
TZOFFSETTO:-0500
TZNAME:EST
DTSTART:20261101T060000
END:STANDARD
BEGIN:DAYLIGHT
TZOFFSETFROM:-0500
TZOFFSETTO:-0400
TZNAME:EDT
DTSTART:20270314T070000
END:DAYLIGHT
BEGIN:STANDARD
TZOFFSETFROM:-0400
TZOFFSETTO:-0500
TZNAME:EST
DTSTART:20271107T060000
END:STANDARD
BEGIN:DAYLIGHT
TZOFFSETFROM:-0500
TZOFFSETTO:-0400
TZNAME:EDT
DTSTART:20280312T070000
END:DAYLIGHT
BEGIN:STANDARD
TZOFFSETFROM:-0400
TZOFFSETTO:-0500
TZNAME:EST
DTSTART:20281105T060000
END:STANDARD
END:VTIMEZONE
BEGIN:VEVENT
DTSTART;TZID=America/New_York:20270103T100000
DTEND;TZID=America/New_York:20270103T110000
DTSTAMP:20260421T072142
CREATED:20251024T171130Z
LAST-MODIFIED:20260319T221152Z
UID:10002181-1798970400-1798974000@randolphstreet.org
SUMMARY:Gathering
DESCRIPTION:
URL:https://randolphstreet.org/event/gathering-70/
END:VEVENT
BEGIN:VEVENT
DTSTART;TZID=America/New_York:20270103T100000
DTEND;TZID=America/New_York:20270103T120000
DTSTAMP:20260421T072142
CREATED:20250203T002625Z
LAST-MODIFIED:20250421T041153Z
UID:10001963-1798970400-1798977600@randolphstreet.org
SUMMARY:Worship Gathering
DESCRIPTION:
URL:https://randolphstreet.org/event/worship-gathering-348/
END:VEVENT
BEGIN:VEVENT
DTSTART;TZID=America/New_York:20270110T100000
DTEND;TZID=America/New_York:20270110T110000
DTSTAMP:20260421T072142
CREATED:20251026T171245Z
LAST-MODIFIED:20260319T221152Z
UID:10002182-1799575200-1799578800@randolphstreet.org
SUMMARY:Gathering
DESCRIPTION:
URL:https://randolphstreet.org/event/gathering-71/
END:VEVENT
BEGIN:VEVENT
DTSTART;TZID=America/New_York:20270110T100000
DTEND;TZID=America/New_York:20270110T120000
DTSTAMP:20260421T072142
CREATED:20250210T004216Z
LAST-MODIFIED:20250421T041153Z
UID:10001964-1799575200-1799582400@randolphstreet.org
SUMMARY:Worship Gathering
DESCRIPTION:
URL:https://randolphstreet.org/event/worship-gathering-349/
END:VEVENT
BEGIN:VEVENT
DTSTART;TZID=America/New_York:20270117T100000
DTEND;TZID=America/New_York:20270117T110000
DTSTAMP:20260421T072142
CREATED:20251026T171245Z
LAST-MODIFIED:20260319T221152Z
UID:10002183-1800180000-1800183600@randolphstreet.org
SUMMARY:Gathering
DESCRIPTION:
URL:https://randolphstreet.org/event/gathering-72/
END:VEVENT
BEGIN:VEVENT
DTSTART;TZID=America/New_York:20270117T100000
DTEND;TZID=America/New_York:20270117T120000
DTSTAMP:20260421T072142
CREATED:20250217T011121Z
LAST-MODIFIED:20250421T041153Z
UID:10001965-1800180000-1800187200@randolphstreet.org
SUMMARY:Worship Gathering
DESCRIPTION:
URL:https://randolphstreet.org/event/worship-gathering-350/
END:VEVENT
BEGIN:VEVENT
DTSTART;TZID=America/New_York:20270124T100000
DTEND;TZID=America/New_York:20270124T110000
DTSTAMP:20260421T072142
CREATED:20251027T171219Z
LAST-MODIFIED:20260319T221152Z
UID:10002184-1800784800-1800788400@randolphstreet.org
SUMMARY:Gathering
DESCRIPTION:
URL:https://randolphstreet.org/event/gathering-73/
END:VEVENT
BEGIN:VEVENT
DTSTART;TZID=America/New_York:20270124T100000
DTEND;TZID=America/New_York:20270124T120000
DTSTAMP:20260421T072142
CREATED:20250224T011208Z
LAST-MODIFIED:20250421T041153Z
UID:10001966-1800784800-1800792000@randolphstreet.org
SUMMARY:Worship Gathering
DESCRIPTION:
URL:https://randolphstreet.org/event/worship-gathering-351/
END:VEVENT
BEGIN:VEVENT
DTSTART;TZID=America/New_York:20270131T100000
DTEND;TZID=America/New_York:20270131T110000
DTSTAMP:20260421T072142
CREATED:20251028T171142Z
LAST-MODIFIED:20260319T221152Z
UID:10002185-1801389600-1801393200@randolphstreet.org
SUMMARY:Gathering
DESCRIPTION:
URL:https://randolphstreet.org/event/gathering-74/
END:VEVENT
BEGIN:VEVENT
DTSTART;TZID=America/New_York:20270131T100000
DTEND;TZID=America/New_York:20270131T120000
DTSTAMP:20260421T072142
CREATED:20250303T012838Z
LAST-MODIFIED:20250421T041153Z
UID:10001967-1801389600-1801396800@randolphstreet.org
SUMMARY:Worship Gathering
DESCRIPTION:
URL:https://randolphstreet.org/event/worship-gathering-352/
END:VEVENT
BEGIN:VEVENT
DTSTART;TZID=America/New_York:20270207T100000
DTEND;TZID=America/New_York:20270207T110000
DTSTAMP:20260421T072142
CREATED:20251029T171152Z
LAST-MODIFIED:20260319T221152Z
UID:10002186-1801994400-1801998000@randolphstreet.org
SUMMARY:Gathering
DESCRIPTION:
URL:https://randolphstreet.org/event/gathering-75/
END:VEVENT
BEGIN:VEVENT
DTSTART;TZID=America/New_York:20270207T100000
DTEND;TZID=America/New_York:20270207T120000
DTSTAMP:20260421T072142
CREATED:20250310T015619Z
LAST-MODIFIED:20250421T041153Z
UID:10001968-1801994400-1802001600@randolphstreet.org
SUMMARY:Worship Gathering
DESCRIPTION:
URL:https://randolphstreet.org/event/worship-gathering-353/
END:VEVENT
BEGIN:VEVENT
DTSTART;TZID=America/New_York:20270214T100000
DTEND;TZID=America/New_York:20270214T110000
DTSTAMP:20260421T072142
CREATED:20251030T171135Z
LAST-MODIFIED:20260319T221152Z
UID:10002187-1802599200-1802602800@randolphstreet.org
SUMMARY:Gathering
DESCRIPTION:
URL:https://randolphstreet.org/event/gathering-76/
END:VEVENT
BEGIN:VEVENT
DTSTART;TZID=America/New_York:20270214T100000
DTEND;TZID=America/New_York:20270214T120000
DTSTAMP:20260421T072142
CREATED:20250421T041147Z
LAST-MODIFIED:20250421T041153Z
UID:10002001-1802599200-1802606400@randolphstreet.org
SUMMARY:Worship Gathering
DESCRIPTION:
URL:https://randolphstreet.org/event/worship-gathering-354/
END:VEVENT
BEGIN:VEVENT
DTSTART;TZID=America/New_York:20270221T100000
DTEND;TZID=America/New_York:20270221T110000
DTSTAMP:20260421T072142
CREATED:20251102T171219Z
LAST-MODIFIED:20260319T221152Z
UID:10002188-1803204000-1803207600@randolphstreet.org
SUMMARY:Gathering
DESCRIPTION:
URL:https://randolphstreet.org/event/gathering-77/
END:VEVENT
BEGIN:VEVENT
DTSTART;TZID=America/New_York:20270221T100000
DTEND;TZID=America/New_York:20270221T120000
DTSTAMP:20260421T072142
CREATED:20250421T041147Z
LAST-MODIFIED:20250421T041153Z
UID:10002002-1803204000-1803211200@randolphstreet.org
SUMMARY:Worship Gathering
DESCRIPTION:
URL:https://randolphstreet.org/event/worship-gathering-355/
END:VEVENT
BEGIN:VEVENT
DTSTART;TZID=America/New_York:20270228T100000
DTEND;TZID=America/New_York:20270228T110000
DTSTAMP:20260421T072142
CREATED:20251103T172649Z
LAST-MODIFIED:20260319T221152Z
UID:10002189-1803808800-1803812400@randolphstreet.org
SUMMARY:Gathering
DESCRIPTION:
URL:https://randolphstreet.org/event/gathering-78/
END:VEVENT
BEGIN:VEVENT
DTSTART;TZID=America/New_York:20270307T100000
DTEND;TZID=America/New_York:20270307T110000
DTSTAMP:20260421T072142
CREATED:20251103T172649Z
LAST-MODIFIED:20260319T221152Z
UID:10002190-1804413600-1804417200@randolphstreet.org
SUMMARY:Gathering
DESCRIPTION:
URL:https://randolphstreet.org/event/gathering-79/
END:VEVENT
BEGIN:VEVENT
DTSTART;TZID=America/New_York:20270314T100000
DTEND;TZID=America/New_York:20270314T110000
DTSTAMP:20260421T072142
CREATED:20251103T172649Z
LAST-MODIFIED:20260319T221152Z
UID:10002191-1805018400-1805022000@randolphstreet.org
SUMMARY:Gathering
DESCRIPTION:
URL:https://randolphstreet.org/event/gathering-80/
END:VEVENT
BEGIN:VEVENT
DTSTART;TZID=America/New_York:20270321T100000
DTEND;TZID=America/New_York:20270321T110000
DTSTAMP:20260421T072142
CREATED:20251105T172657Z
LAST-MODIFIED:20260319T221153Z
UID:10002194-1805623200-1805626800@randolphstreet.org
SUMMARY:Gathering
DESCRIPTION:
URL:https://randolphstreet.org/event/gathering-81/
END:VEVENT
BEGIN:VEVENT
DTSTART;TZID=America/New_York:20270328T100000
DTEND;TZID=America/New_York:20270328T110000
DTSTAMP:20260421T072142
CREATED:20251106T172629Z
LAST-MODIFIED:20260319T221153Z
UID:10002195-1806228000-1806231600@randolphstreet.org
SUMMARY:Gathering
DESCRIPTION:
URL:https://randolphstreet.org/event/gathering-82/
END:VEVENT
BEGIN:VEVENT
DTSTART;TZID=America/New_York:20270404T100000
DTEND;TZID=America/New_York:20270404T110000
DTSTAMP:20260421T072142
CREATED:20251108T172710Z
LAST-MODIFIED:20260319T221153Z
UID:10002196-1806832800-1806836400@randolphstreet.org
SUMMARY:Gathering
DESCRIPTION:
URL:https://randolphstreet.org/event/gathering-83/
END:VEVENT
BEGIN:VEVENT
DTSTART;TZID=America/New_York:20270411T100000
DTEND;TZID=America/New_York:20270411T110000
DTSTAMP:20260421T072142
CREATED:20251109T172617Z
LAST-MODIFIED:20260319T221153Z
UID:10002197-1807437600-1807441200@randolphstreet.org
SUMMARY:Gathering
DESCRIPTION:
URL:https://randolphstreet.org/event/gathering-84/
END:VEVENT
BEGIN:VEVENT
DTSTART;TZID=America/New_York:20270418T100000
DTEND;TZID=America/New_York:20270418T110000
DTSTAMP:20260421T072142
CREATED:20251109T172617Z
LAST-MODIFIED:20260319T221153Z
UID:10002198-1808042400-1808046000@randolphstreet.org
SUMMARY:Gathering
DESCRIPTION:
URL:https://randolphstreet.org/event/gathering-85/
END:VEVENT
BEGIN:VEVENT
DTSTART;TZID=America/New_York:20270425T100000
DTEND;TZID=America/New_York:20270425T110000
DTSTAMP:20260421T072142
CREATED:20251110T173512Z
LAST-MODIFIED:20260319T221153Z
UID:10002199-1808647200-1808650800@randolphstreet.org
SUMMARY:Gathering
DESCRIPTION:
URL:https://randolphstreet.org/event/gathering-86/
END:VEVENT
BEGIN:VEVENT
DTSTART;TZID=America/New_York:20270502T100000
DTEND;TZID=America/New_York:20270502T110000
DTSTAMP:20260421T072142
CREATED:20251116T174329Z
LAST-MODIFIED:20260319T221153Z
UID:10002200-1809252000-1809255600@randolphstreet.org
SUMMARY:Gathering
DESCRIPTION:
URL:https://randolphstreet.org/event/gathering-87/
END:VEVENT
BEGIN:VEVENT
DTSTART;TZID=America/New_York:20270509T100000
DTEND;TZID=America/New_York:20270509T110000
DTSTAMP:20260421T072142
CREATED:20251116T174329Z
LAST-MODIFIED:20260319T221153Z
UID:10002201-1809856800-1809860400@randolphstreet.org
SUMMARY:Gathering
DESCRIPTION:
URL:https://randolphstreet.org/event/gathering-88/
END:VEVENT
BEGIN:VEVENT
DTSTART;TZID=America/New_York:20270516T100000
DTEND;TZID=America/New_York:20270516T110000
DTSTAMP:20260421T072142
CREATED:20251117T174121Z
LAST-MODIFIED:20260319T221153Z
UID:10002202-1810461600-1810465200@randolphstreet.org
SUMMARY:Gathering
DESCRIPTION:
URL:https://randolphstreet.org/event/gathering-89/
END:VEVENT
BEGIN:VEVENT
DTSTART;TZID=America/New_York:20270523T100000
DTEND;TZID=America/New_York:20270523T110000
DTSTAMP:20260421T072142
CREATED:20251117T174121Z
LAST-MODIFIED:20260319T221153Z
UID:10002203-1811066400-1811070000@randolphstreet.org
SUMMARY:Gathering
DESCRIPTION:
URL:https://randolphstreet.org/event/gathering-90/
END:VEVENT
BEGIN:VEVENT
DTSTART;TZID=America/New_York:20270530T100000
DTEND;TZID=America/New_York:20270530T110000
DTSTAMP:20260421T072142
CREATED:20251117T174121Z
LAST-MODIFIED:20260319T221153Z
UID:10002204-1811671200-1811674800@randolphstreet.org
SUMMARY:Gathering
DESCRIPTION:
URL:https://randolphstreet.org/event/gathering-91/
END:VEVENT
END:VCALENDAR